BEGIN:VCALENDAR
VERSION:2.0
PRODID:Events Booking
BEGIN:VEVENT
UID:69e735086d26b
SUMMARY:Atelier \"quitter windows\"
DESCRIPTION:Vous aimeriez quitter windows\, parce que ça devient cher ou p
 arce que Windows 10 n'est plus protégé par Microsoft\,parce que vous êt
 es intéressés par les logiciels libres\, parce que votre ordi peine... v
 enez poser vos questions et si vous le souhaitez\, passer à une alternati
 ve gratuite et plus éthique. 
LOCATION:À droite dans le bâtiment de la mairie\, Place de la Mairie\, Le
 s Hôpitaux-Neufs\, 25370 Bourgogne-Franche-Comté
DTSTART:20260219T150000Z
DTEND:20260219T170000Z
DTSTAMP:20260204T110545Z
ORGANIZER;CN=Comité d'animation des Hôpitaux-Neufs:MAILTO:postmaster@comi
 te-animation-hn.fr
GEO:46.776854;6.373636
X-APPLE-STRUCTURED-LOCATION;VALUE=URI;X-ADDRESS=À droite dans le bâtiment
  de la mairie\, Place de la Mairie\, Les Hôpitaux-Neufs\, 25370 Bourgogne
 -Franche-Comté;X-APPLE-RADIUS=72;X-TITLE=Le Vert Clair:46.776854;6.373636
END:VEVENT
END:VCALENDAR