BEGIN:VCALENDAR
VERSION:2.0
PRODID:Events Booking
BEGIN:VEVENT
UID:69e72ffcc0ea8
SUMMARY:Entrer en contact avec ses guides
DESCRIPTION:Je vous propose de vous accompagner pour entrer en contact avec
  vos guides.
LOCATION:3BIS\, Route des Pistes\, Les Hôpitaux-Neufs\, 25370 Bourgogne-Fr
 anche-Comté
DTSTART:20260222T083000Z
DTEND:20260222T160000Z
DTSTAMP:20251210T204935Z
ORGANIZER;CN=Comité d'animation des Hôpitaux-Neufs:MAILTO:postmaster@comi
 te-animation-hn.fr
GEO:46.777801;6.372548
X-APPLE-STRUCTURED-LOCATION;VALUE=URI;X-ADDRESS=3BIS\, Route des Pistes\, L
 es Hôpitaux-Neufs\, 25370 Bourgogne-Franche-Comté;X-APPLE-RADIUS=72;X-TI
 TLE=Salle des pompes (Rez-de-chaussée):46.777801;6.372548
END:VEVENT
END:VCALENDAR